BEGIN:VCALENDAR
PRODID:-//github.com/ical-org/ical.net//NONSGML ical.net 4.0//EN
VERSION:2.0
BEGIN:VEVENT
DESCRIPTION:One-off events that are staffed but not open to the public.\nT
 abling event for DC Citywide Baby Shower. Jen and Sydni working table ful
 l day. Dira working 11-2:30 (available until 4) and teaching two 20-min p
 renatal yoga classes.  Location: Capitol Turnaround\, 700 M St. SE. \nYog
 a Session 1: 11:30–11:50 AM (Dira)\nYoga Session 2: 1:30–1:50 PM (Dira)\n
 ----\nJen teaches many Breathing Space classes – Baby Yoga & Play classes
 \, Tot\,\nToddler and Little Families Yoga\n<https://breathingspacedc.com
 /yoga/early-childhood-yoga/> \, afterschool yoga\n<https://breathingspace
 dc.com/yoga-schools-groups/> \, all-levels yoga (adults)\,\nand prenatal\
 n<https://yoga.breathingspacedc.com/> \, and directs day-off and summer c
 amps\n<https://breathingspacedc.com/kids-yoga-camp-washington-dc/>  . . .
  in addition\nto doing a bunch of behind-the-scenes stuff to keep it all 
 running.\n\nLike so many\, Jen first came to the yoga mat because of an i
 njury\, seeking\nnothing more than to feel better and balance her body fo
 r running. She comes\nback to the mat because yoga invites her to embrace
  her body and mind with all\nits imperfections and then to look beyond th
 em to the greater Self.  Jen’s\npractice became a source of strength and 
 connection during the significant life\nchanges of becoming a parent\, ev
 entually leading her to found Breathing Space to\ncreate a vibrant commun
 ity hub for family yoga on Capitol Hill.\n\nJen is a Yoga Alliance® Exper
 ienced Registered Yoga Teacher (E-RTY 200)\,\nRegistered Children’s Yoga 
 Teacher (RCTY) and Registered Prenatal Yoga Teacher\n(RPYT). She has sinc
 e trained with Budding Yogis\n<http://www.buddingyogis.com/> \, ChildLigh
 t Yoga\n<http://www.childlightyoga.com/> \, Yoga 4 Classrooms\n<http://ww
 w.yoga4classrooms.com/> \, and YoKid\n<http://www.yokid.org/>  to offer c
 lasses to families and children of all ages.\nJen’s work with children in
 spired her to complete adult yoga teacher training\nat Willow Street Yoga
 \n<http://www.willowstreetyoga.com/> in 2010 and train in Prenatal Yoga w
 ith\nJanice Clarfield\n<http://www.urbanyoga.ca/>  and Dolphin Yoga. She 
 is also a Certified Educator\nof Infant Massage (CEIM) through Infant Mas
 sage USA and an International Board\nCertified Lactation Consultant (IBCL
 C)\n<https://breathingspacedc.com/lactation-consulting/> . When she’s not
  teaching\nor playing at Breathing Space\, you may find her working with 
 families through\nthe Breastfeeding Center for Greater Washington DC\n<ht
 tp://breastfeedingcenter.org/>  or traveling the world with her partner a
 nd\nteen daughter.\n\nRead more and find classes with Jen\n<https://www.b
 reathingspacedc.com/project/jen-mueller/>
DTEND:20260516T160000
DTSTAMP:20260419T141527Z
DTSTART:20260516T093000
LOCATION:Offsite\, Various\, Offsite\, Various DMV
SEQUENCE:0
SUMMARY:DC Citywide Baby Shower with Jen
UID:9355196
END:VEVENT
BEGIN:VTIMEZONE
TZID:US/Eastern
X-LIC-LOCATION:US/Eastern
END:VTIMEZONE
END:VCALENDAR
